BEGIN:VCALENDAR
VERSION:2.0
PRODID:-//Cambridge Computer - ECPv6.15.20//NONSGML v1.0//EN
CALSCALE:GREGORIAN
METHOD:PUBLISH
X-WR-CALNAME:Cambridge Computer
X-ORIGINAL-URL:https://www.cambridgecomputer.com
X-WR-CALDESC:Events for Cambridge Computer
REFRESH-INTERVAL;VALUE=DURATION:PT1H
X-Robots-Tag:noindex
X-PUBLISHED-TTL:PT1H
BEGIN:VTIMEZONE
TZID:America/New_York
BEGIN:DAYLIGHT
TZOFFSETFROM:-0500
TZOFFSETTO:-0400
TZNAME:EDT
DTSTART:20250309T070000
END:DAYLIGHT
BEGIN:STANDARD
TZOFFSETFROM:-0400
TZOFFSETTO:-0500
TZNAME:EST
DTSTART:20251102T060000
END:STANDARD
BEGIN:DAYLIGHT
TZOFFSETFROM:-0500
TZOFFSETTO:-0400
TZNAME:EDT
DTSTART:20260308T070000
END:DAYLIGHT
BEGIN:STANDARD
TZOFFSETFROM:-0400
TZOFFSETTO:-0500
TZNAME:EST
DTSTART:20261101T060000
END:STANDARD
BEGIN:DAYLIGHT
TZOFFSETFROM:-0500
TZOFFSETTO:-0400
TZNAME:EDT
DTSTART:20270314T070000
END:DAYLIGHT
BEGIN:STANDARD
TZOFFSETFROM:-0400
TZOFFSETTO:-0500
TZNAME:EST
DTSTART:20271107T060000
END:STANDARD
END:VTIMEZONE
BEGIN:VTIMEZONE
TZID:America/Chicago
BEGIN:DAYLIGHT
TZOFFSETFROM:-0600
TZOFFSETTO:-0500
TZNAME:CDT
DTSTART:20250309T080000
END:DAYLIGHT
BEGIN:STANDARD
TZOFFSETFROM:-0500
TZOFFSETTO:-0600
TZNAME:CST
DTSTART:20251102T070000
END:STANDARD
BEGIN:DAYLIGHT
TZOFFSETFROM:-0600
TZOFFSETTO:-0500
TZNAME:CDT
DTSTART:20260308T080000
END:DAYLIGHT
BEGIN:STANDARD
TZOFFSETFROM:-0500
TZOFFSETTO:-0600
TZNAME:CST
DTSTART:20261101T070000
END:STANDARD
BEGIN:DAYLIGHT
TZOFFSETFROM:-0600
TZOFFSETTO:-0500
TZNAME:CDT
DTSTART:20270314T080000
END:DAYLIGHT
BEGIN:STANDARD
TZOFFSETFROM:-0500
TZOFFSETTO:-0600
TZNAME:CST
DTSTART:20271107T070000
END:STANDARD
END:VTIMEZONE
BEGIN:VEVENT
DTSTART;VALUE=DATE:20260422
DTEND;VALUE=DATE:20260425
DTSTAMP:20260424T070433
CREATED:20260403T210502Z
LAST-MODIFIED:20260403T210502Z
UID:24213-1776816000-1777075199@www.cambridgecomputer.com
SUMMARY:GA EMC Technology Association Spring Conference 2026
DESCRIPTION:The GA EMC Technology Association Spring Conference brings together IT professionals\, engineers\, and decision-makers from Georgia’s 41 electric membership cooperatives. This multi-day event features technical sessions\, vendor exhibits\, and networking opportunities focused on the technologies powering the state’s electric cooperative infrastructure.
URL:https://www.cambridgecomputer.com/event/ga-emc-technology-association-spring-conference-2026/
LOCATION:Augusta Marriott at the Convention Center\, 2 10th Street\, Atlanta\, GA\, 30901\, United States
ATTACH;FMTTYPE=image/jpeg:https://www.cambridgecomputer.com/wp-content/uploads/2026/04/GA-EMC-Technology-Association-Spring-Conference-2026.jpg
END:VEVENT
BEGIN:VEVENT
DTSTART;VALUE=DATE:20260426
DTEND;VALUE=DATE:20260501
DTSTAMP:20260424T070433
CREATED:20260403T211212Z
LAST-MODIFIED:20260403T211212Z
UID:24218-1777161600-1777593599@www.cambridgecomputer.com
SUMMARY:Georgia GMIS 2026 Spring Conference
DESCRIPTION:Georgia GMIS hosts its “Swinging for the Future” Spring Conference\, connecting public-sector IT professionals from state and local government across Georgia. This five-day event features sessions on emerging technologies\, cybersecurity\, cloud computing\, and digital government services\, plus ample networking and professional development opportunities.
URL:https://www.cambridgecomputer.com/event/georgia-gmis-2026-spring-conference/
LOCATION:Columbus Convention & Trade Center\, 801 Front Avenue\, Columbus\, GA\, 31901\, United States
ATTACH;FMTTYPE=image/jpeg:https://www.cambridgecomputer.com/wp-content/uploads/2026/04/Georgia-GMIS-2026-Spring-Conference.jpg
END:VEVENT
BEGIN:VEVENT
DTSTART;VALUE=DATE:20260520
DTEND;VALUE=DATE:20260523
DTSTAMP:20260424T070433
CREATED:20260403T211513Z
LAST-MODIFIED:20260403T211513Z
UID:24223-1779235200-1779494399@www.cambridgecomputer.com
SUMMARY:NCLGISA 2026 Spring Symposium
DESCRIPTION:The NCLGISA Spring Symposium is the premier gathering for North Carolina’s local government IT professionals. Featuring technology training\, business-skill workshops\, and a full vendor expo\, this three-day event helps participants share ideas\, explore innovative solutions\, and strengthen the effectiveness of information systems serving NC communities.
URL:https://www.cambridgecomputer.com/event/nclgisa-2026-spring-symposium/
LOCATION:Wilmington Convention Center\, 10 Convention Center Dr.\, Wilmington\, NC\, 28401\, United States
ATTACH;FMTTYPE=image/jpeg:https://www.cambridgecomputer.com/wp-content/uploads/2026/04/NCLGISA-2026-Spring-Symposium.jpg
ORGANIZER;CN="NCLGISA":MAILTO:info@nclgisa.org
END:VEVENT
BEGIN:VEVENT
DTSTART;VALUE=DATE:20260726
DTEND;VALUE=DATE:20260731
DTSTAMP:20260424T070433
CREATED:20260403T212640Z
LAST-MODIFIED:20260403T212640Z
UID:24230-1785024000-1785455999@www.cambridgecomputer.com
SUMMARY:PEARC26
DESCRIPTION:PEARC26\, themed “Resilient Roots + Empowered Communities\,” is the premier conference for research computing professionals. Hosted by ACM\, this five-day event covers advanced research computing\, workforce development\, AI/ML\, HPC\, cloud infrastructure\, and data science\, with a strong emphasis on building a diverse and inclusive HPC community through student programs\, mentorship\, and professional development.
URL:https://www.cambridgecomputer.com/event/pearc26/
LOCATION:Minneapolis Convention Center\, 1301 2nd Avenue South\, Minneapolis\, MN\, 55403\, United States
ATTACH;FMTTYPE=image/jpeg:https://www.cambridgecomputer.com/wp-content/uploads/2026/04/PEARC26.jpg
END:VEVENT
BEGIN:VEVENT
DTSTART;VALUE=DATE:20260811
DTEND;VALUE=DATE:20260815
DTSTAMP:20260424T070433
CREATED:20260403T212010Z
LAST-MODIFIED:20260403T212010Z
UID:24226-1786406400-1786751999@www.cambridgecomputer.com
SUMMARY:2026 Cooperative Technologies Conference & Expo (CTCE)
DESCRIPTION:CTCE is the annual four-day event hosted by North Carolina’s Electric Cooperatives\, bringing together more than 200 electric cooperative professionals and 90+ exhibitors. Tailored for IT\, engineering\, operations\, and energy services professionals\, CTCE delivers hands-on sessions\, an interactive exhibit hall\, and networking opportunities focused on the latest technologies shaping the electric utility industry.
URL:https://www.cambridgecomputer.com/event/2026-cooperative-technologies-conference-expo-ctce/
LOCATION:Wilmington Convention Center\, 10 Convention Center Dr.\, Wilmington\, NC\, 28401\, United States
ATTACH;FMTTYPE=image/jpeg:https://www.cambridgecomputer.com/wp-content/uploads/2026/04/2026-Cooperative-Technologies-Conference-Expo.jpg
END:VEVENT
BEGIN:VEVENT
DTSTART;VALUE=DATE:20261115
DTEND;VALUE=DATE:20261121
DTSTAMP:20260424T070433
CREATED:20260403T212927Z
LAST-MODIFIED:20260403T212938Z
UID:24234-1794700800-1795219199@www.cambridgecomputer.com
SUMMARY:SC26
DESCRIPTION:SC26 is the world’s premier supercomputing conference\, drawing thousands of HPC professionals\, researchers\, and vendors to explore cutting-edge advances in high performance computing\, networking\, storage\, and analysis. With a full week of technical papers\, tutorials\, workshops\, the famous exhibit hall\, and SCinet (the world’s fastest temporary network)\, SC26 is the defining event for the global HPC community.
URL:https://www.cambridgecomputer.com/event/sc26/
LOCATION:McCormick Place Convention Center\, 2301 S Martin Luther King Drive\, Chicago\, IL\, 60616\, United States
ATTACH;FMTTYPE=image/jpeg:https://www.cambridgecomputer.com/wp-content/uploads/2026/04/SC26.jpg
END:VEVENT
END:VCALENDAR