BEGIN:VCALENDAR
VERSION:2.0
PRODID:-//Cambridge Computer - ECPv6.15.20//NONSGML v1.0//EN
CALSCALE:GREGORIAN
METHOD:PUBLISH
X-WR-CALNAME:Cambridge Computer
X-ORIGINAL-URL:https://www.cambridgecomputer.com
X-WR-CALDESC:Events for Cambridge Computer
REFRESH-INTERVAL;VALUE=DURATION:PT1H
X-Robots-Tag:noindex
X-PUBLISHED-TTL:PT1H
BEGIN:VTIMEZONE
TZID:America/New_York
BEGIN:DAYLIGHT
TZOFFSETFROM:-0500
TZOFFSETTO:-0400
TZNAME:EDT
DTSTART:20240310T070000
END:DAYLIGHT
BEGIN:STANDARD
TZOFFSETFROM:-0400
TZOFFSETTO:-0500
TZNAME:EST
DTSTART:20241103T060000
END:STANDARD
BEGIN:DAYLIGHT
TZOFFSETFROM:-0500
TZOFFSETTO:-0400
TZNAME:EDT
DTSTART:20250309T070000
END:DAYLIGHT
BEGIN:STANDARD
TZOFFSETFROM:-0400
TZOFFSETTO:-0500
TZNAME:EST
DTSTART:20251102T060000
END:STANDARD
BEGIN:DAYLIGHT
TZOFFSETFROM:-0500
TZOFFSETTO:-0400
TZNAME:EDT
DTSTART:20260308T070000
END:DAYLIGHT
BEGIN:STANDARD
TZOFFSETFROM:-0400
TZOFFSETTO:-0500
TZNAME:EST
DTSTART:20261101T060000
END:STANDARD
END:VTIMEZONE
BEGIN:VEVENT
DTSTART;VALUE=DATE:20250520
DTEND;VALUE=DATE:20250523
DTSTAMP:20260419T084329
CREATED:20250407T222621Z
LAST-MODIFIED:20250407T222621Z
UID:23973-1747699200-1747958399@www.cambridgecomputer.com
SUMMARY:2025 NCLGISA Spring Symposium
DESCRIPTION:The 2025 NCLGISA Spring Symposium is an annual event organized by the North Carolina Local Government Information Systems Association (NCLGISA). It serves as a platform for local government IT professionals to share experiences\, explore innovative solutions\, and improve the effectiveness of local government information systems. The symposium features workshops\, training sessions\, and networking opportunities for participants.
URL:https://www.cambridgecomputer.com/event/2025-nclgisa-spring-symposium/
LOCATION:Wilmington Convention Center\, 10 Convention Center Dr.\, Wilmington\, NC\, 28401\, United States
ATTACH;FMTTYPE=image/jpeg:https://www.cambridgecomputer.com/wp-content/uploads/2025/04/NCLGISA.jpg
ORGANIZER;CN="NCLGISA":MAILTO:info@nclgisa.org
END:VEVENT
END:VCALENDAR